BEGIN:VCALENDAR
VERSION:2.0
PRODID:-//Intand Corporation//Tandem//EN
METHOD:PUBLISH
BEGIN:VEVENT
DTSTAMP:20260422T215006Z
DTSTART:20260506T213000Z
DTEND:20260507T030000Z
TRANSP:TRANSPARENT
PRIORITY:0
SUMMARY:HS Baseball vs. Lighthouse Christian 
LOCATION:Baseball Field
DESCRIPTION: \n\n \n\nGroups:\nClever High Baseball Boys JV\nClever High B
 aseball Boys Varsity\nClever High Baseball C/Freshman\n\nSchools:\nClever 
 High\n\nLocation:\nBaseball Field\n\n \n\n \n
X-ALT-DESC;FMTTYPE=text/html:<!doctype html><html><body><p> </p> <br /><br
  />Groups:<br />Clever High Baseball Boys JV<br />Clever High Baseball Boy
 s Varsity<br />Clever High Baseball C/Freshman<br /><br />Schools:<br />Cl
 ever High<br /><br />Location:<br />Baseball Field<br /><br />Notes:<br />
 <p> </p> <br /></body></html>
URL;VALUE=URI:http://cleverbluejays.tandem.co/index.php?type=view&action=e
 vent&id=32828
CREATED:20250927T163409Z
LAST-MODIFIED:20250927T163409Z
UID:event-32828-cleverbluejays@intand.com
END:VEVENT
END:VCALENDAR
