BEGIN:VCALENDAR
VERSION:2.0
PRODID:-//Intand Corporation//Tandem//EN
METHOD:PUBLISH
BEGIN:VEVENT
DTSTAMP:20260423T001007Z
DTSTART:20260713T050000Z
DTEND:20260714T045900Z
TRANSP:TRANSPARENT
PRIORITY:0
SUMMARY:GYM FLOOR REFINISH 
LOCATION:High School Gymnasium\, South Elemiddle Gymnasium\, North Elemidd
 le Gymnasium 
DESCRIPTION:Groups:\nCoaches\n\nSchools:\nClever Upper EleMiddle\nClever H
 igh\n\nLocations:\nHigh School Gymnasium\nSouth Elemiddle Gymnasium\nNorth
  Elemiddle Gymnasium \n\n
URL;VALUE=URI:http://cleverbluejays.tandem.co/index.php?type=view&action=e
 vent&id=34433
CREATED:20260303T190242Z
LAST-MODIFIED:20260303T190242Z
UID:event-34433-cleverbluejays@intand.com
END:VEVENT
END:VCALENDAR
