BEGIN:VCALENDAR
VERSION:2.0
PRODID:-//Intand Corporation//Tandem//EN
METHOD:PUBLISH
BEGIN:VEVENT
DTSTAMP:20260422T235745Z
DTSTART:20260618T150000Z
DTEND:20260618T220000Z
TRANSP:TRANSPARENT
PRIORITY:0
SUMMARY:Football 7 on 7 Tournament 
LOCATION:Logan-Rogersville High School
DESCRIPTION:Groups:\nClever HS  Football\n\nSchools:\nClever High\n\nLocat
 ion:\nLogan-Rogersville High School\n\n
URL;VALUE=URI:http://cleverbluejays.tandem.co/index.php?type=view&action=e
 vent&id=34957
CREATED:20260310T195904Z
LAST-MODIFIED:20260310T195904Z
UID:event-34957-cleverbluejays@intand.com
END:VEVENT
END:VCALENDAR
