BEGIN:VCALENDAR
VERSION:2.0
PRODID:-//Intand Corporation//Tandem//EN
METHOD:PUBLISH
BEGIN:VEVENT
DTSTAMP:20260422T235153Z
DTSTART:20261015T200000Z
DTEND:20261016T030000Z
TRANSP:TRANSPARENT
PRIORITY:0
SUMMARY:Home Cross Country Meet 
LOCATION:HS Golf Range/Band Practice Field\, HS Football Practice Field
DESCRIPTION:Groups:\nClever High Cross Country JV\nClever High Cross Count
 ry Varsity\nClever JH Cross Country\n\nSchools:\nClever Upper EleMiddle\nC
 lever High\n\nLocations:\nHS Golf Range/Band Practice Field\nHS Football P
 ractice Field\n\n
URL;VALUE=URI:http://cleverbluejays.tandem.co/index.php?type=view&action=e
 vent&id=35277
CREATED:20260416T145629Z
LAST-MODIFIED:20260416T145629Z
UID:event-35277-cleverbluejays@intand.com
END:VEVENT
END:VCALENDAR
