BEGIN:VCALENDAR
VERSION:2.0
PRODID:-//Intand Corporation//Tandem//EN
METHOD:PUBLISH
BEGIN:VEVENT
DTSTAMP:20260422T202056Z
DTSTART:20260414T220000Z
DTEND:20260415T030000Z
TRANSP:TRANSPARENT
PRIORITY:0
SUMMARY:HS Softball @ Buffalo
LOCATION:BUFFALO MIDDLE
DESCRIPTION: \n\n \n\n\nGroups:\nClever High Softball Girls JV\nClever Hig
 h Softball Varsity\n\nSchools:\nBUFFALO MIDDLE\nClever High\n\nLocation:\n
 BUFFALO MIDDLE\n\n \n\n \n\n
X-ALT-DESC;FMTTYPE=text/html:<!doctype html><html><body> </p><p> <br /><br
  />Groups:<br />Clever High Softball Girls JV<br />Clever High Softball Va
 rsity<br /><br />Schools:<br />BUFFALO MIDDLE<br />Clever High<br /><br />
 Location:<br />BUFFALO MIDDLE<br /><br />Notes:<br /> </p><p> <br /></body
 ></html>
URL;VALUE=URI:https://cleverbluejays.tandem.co/index.php?type=view&action=
 event&id=32843
CREATED:20250927T170850Z
LAST-MODIFIED:20260403T142924Z
UID:event-32843-cleverbluejays@intand.com
END:VEVENT
END:VCALENDAR
