BEGIN:VCALENDAR
VERSION:2.0
PRODID:-//Intand Corporation//Tandem//EN
METHOD:PUBLISH
BEGIN:VEVENT
DTSTAMP:20260422T201941Z
DTSTART:20260416T220000Z
DTEND:20260417T030000Z
TRANSP:TRANSPARENT
PRIORITY:0
SUMMARY:HS Softball @ Strafford 
LOCATION:Strafford High School
DESCRIPTION: \n\n \n\n\nGroups:\nClever High Softball Girls JV\nClever Hig
 h Softball Varsity\n\nSchools:\nClever High\n\nLocation:\nStrafford High S
 chool\n\n \n\n \n\n
X-ALT-DESC;FMTTYPE=text/html:<!doctype html><html><body> </p><p> <br /><br
  />Groups:<br />Clever High Softball Girls JV<br />Clever High Softball Va
 rsity<br /><br />Schools:<br />Clever High<br /><br />Location:<br />Straf
 ford High School<br /><br />Notes:<br /> </p><p> <br /></body></html>
URL;VALUE=URI:https://cleverbluejays.tandem.co/index.php?type=view&action=
 event&id=32844
CREATED:20250927T171011Z
LAST-MODIFIED:20260115T165007Z
UID:event-32844-cleverbluejays@intand.com
END:VEVENT
END:VCALENDAR
