BEGIN:VCALENDAR
VERSION:2.0
PRODID:-//Intand Corporation//Tandem//EN
METHOD:PUBLISH
BEGIN:VEVENT
DTSTAMP:20260422T202054Z
DTSTART:20260427T220000Z
DTEND:20260428T040000Z
TRANSP:TRANSPARENT
PRIORITY:0
SUMMARY:HS Softball vs. New Heights 
LOCATION:HS Softball Field
DESCRIPTION: \n\n \n\n\nGroups:\nClever High Softball Varsity\n\nSchools:\
 nClever High\n\nLocation:\nHS Softball Field\n\n \n\n \n\n
X-ALT-DESC;FMTTYPE=text/html:<!doctype html><html><body> </p><p> <br /><br
  />Groups:<br />Clever High Softball Varsity<br /><br />Schools:<br />Clev
 er High<br /><br />Location:<br />HS Softball Field<br /><br />Notes:<br /
 > </p><p> <br /></body></html>
URL;VALUE=URI:https://cleverbluejays.tandem.co/index.php?type=view&action=
 event&id=32852
CREATED:20250929T213334Z
LAST-MODIFIED:20260417T192041Z
UID:event-32852-cleverbluejays@intand.com
END:VEVENT
END:VCALENDAR
