BEGIN:VCALENDAR
VERSION:2.0
PRODID:-//Intand Corporation//Tandem//EN
METHOD:PUBLISH
BEGIN:VEVENT
DTSTAMP:20260422T201927Z
DTSTART:20260418T170000Z
DTEND:20260418T180000Z
TRANSP:TRANSPARENT
PRIORITY:0
SUMMARY:JH Baseball @ Morrisville
LOCATION:5305 Morrisville-Willard Rd
DESCRIPTION:Groups:\nClever JH Baseball \n\nSchools:\nClever Upper EleMidd
 le\n\nLocation:\n5305 Morrisville-Willard Rd\n\n
URL;VALUE=URI:https://cleverbluejays.tandem.co/index.php?type=view&action=
 event&id=34044
CREATED:20260120T191501Z
LAST-MODIFIED:20260120T191501Z
UID:event-34044-cleverbluejays@intand.com
END:VEVENT
END:VCALENDAR
