BEGIN:VCALENDAR
VERSION:2.0
PRODID:-//Intand Corporation//Tandem//EN
METHOD:PUBLISH
BEGIN:VEVENT
DTSTAMP:20260422T201842Z
DTSTART:20260423T210000Z
DTEND:20260424T010000Z
TRANSP:TRANSPARENT
PRIORITY:0
SUMMARY:6-8 Scheduling Night 
LOCATION:South Elemiddle Gymnasium\, South EleMiddle Common's Area
DESCRIPTION: \n\n\n\nGroups:\nClever EleMiddle Grade 5\nClever EleMiddle G
 rade 7\nClever EleMiddle Grade 6\n\nSchools:\nClever Upper EleMiddle\n\nLo
 cations:\nSouth Elemiddle Gymnasium\nSouth EleMiddle Common's Area\n\n \n\
 n\n
X-ALT-DESC;FMTTYPE=text/html:<!doctype html><html><body><p> </p><br /><br 
 />Groups:<br />Clever EleMiddle Grade 5<br />Clever EleMiddle Grade 7<br /
 >Clever EleMiddle Grade 6<br /><br />Schools:<br />Clever Upper EleMiddle<
 br /><br />Locations:<br />South Elemiddle Gymnasium<br />South EleMiddle 
 Common's Area<br /><br />Notes:<br /><p> </p><br /></body></html>
URL;VALUE=URI:https://cleverbluejays.tandem.co/index.php?type=view&action=
 event&id=34166
CREATED:20260204T185344Z
LAST-MODIFIED:20260204T185344Z
UID:event-34166-cleverbluejays@intand.com
END:VEVENT
END:VCALENDAR
