BEGIN:VCALENDAR
VERSION:2.0
PRODID:-//Intand Corporation//Tandem//EN
METHOD:PUBLISH
BEGIN:VEVENT
DTSTAMP:20260422T201934Z
DTSTART:20260422T210000Z
DTEND:20260423T000000Z
TRANSP:TRANSPARENT
PRIORITY:0
SUMMARY:2nd Grade Music Performance
LOCATION:High School Performing Arts Center
DESCRIPTION:Schools:\nClever High\nClever Lower EleMiddle\n\nLocation:\nHi
 gh School Performing Arts Center\n\n
URL;VALUE=URI:https://cleverbluejays.tandem.co/index.php?type=view&action=
 event&id=34170
CREATED:20260205T013038Z
LAST-MODIFIED:20260205T013038Z
UID:event-34170-cleverbluejays@intand.com
END:VEVENT
END:VCALENDAR
