BEGIN:VCALENDAR
VERSION:2.0
PRODID:-//Intand Corporation//Tandem//EN
METHOD:PUBLISH
BEGIN:VEVENT
DTSTAMP:20260422T201927Z
DTSTART:20260420T210000Z
DTEND:20260421T010000Z
TRANSP:TRANSPARENT
PRIORITY:0
SUMMARY:JH Track @ Buffalo
LOCATION:Buffalo High School
DESCRIPTION:Groups:\nClever JH Track\n\nSchools:\nClever Upper EleMiddle\n
 \nLocation:\nBuffalo High School\n\n
URL;VALUE=URI:https://cleverbluejays.tandem.co/index.php?type=view&action=
 event&id=34231
CREATED:20260212T162429Z
LAST-MODIFIED:20260212T162429Z
UID:event-34231-cleverbluejays@intand.com
END:VEVENT
END:VCALENDAR
