BEGIN:VCALENDAR
VERSION:2.0
PRODID:-//Intand Corporation//Tandem//EN
METHOD:PUBLISH
BEGIN:VEVENT
DTSTAMP:20260422T201940Z
DTSTART:20260415T130000Z
DTEND:20260415T200000Z
TRANSP:TRANSPARENT
PRIORITY:0
SUMMARY:[Cancelled] Pummill Math Relays 
LOCATION:Robert W. Plaster Student Union
DESCRIPTION:at Missouri State \n\n\nGroups:\nClever High Math Team\n\nScho
 ols:\nClever High\n\nLocation:\nRobert W. Plaster Student Union\n\n
URL;VALUE=URI:https://cleverbluejays.tandem.co/index.php?type=view&action=
 event&id=34335
CREATED:20260226T200118Z
LAST-MODIFIED:20260408T192120Z
UID:event_request-34335-cleverbluejays@intand.com
END:VEVENT
END:VCALENDAR
