BEGIN:VCALENDAR
VERSION:2.0
PRODID:-//Intand Corporation//Tandem//EN
METHOD:PUBLISH
BEGIN:VEVENT
DTSTAMP:20260422T201933Z
DTSTART:20260412T230000Z
DTEND:20260413T010000Z
TRANSP:TRANSPARENT
PRIORITY:0
SUMMARY:Stoner-VB
LOCATION:South Elemiddle Gymnasium
DESCRIPTION:Groups:\nYouth Sports\n\nSchools:\nClever Upper EleMiddle\n\nL
 ocation:\nSouth Elemiddle Gymnasium\n\n
URL;VALUE=URI:https://cleverbluejays.tandem.co/index.php?type=view&action=
 event&id=34405
CREATED:20260302T065103Z
LAST-MODIFIED:20260302T164406Z
UID:event_request-34405-cleverbluejays@intand.com
END:VEVENT
END:VCALENDAR
