BEGIN:VCALENDAR
VERSION:2.0
PRODID:-//Intand Corporation//Tandem//EN
METHOD:PUBLISH
BEGIN:VEVENT
DTSTAMP:20260422T202020Z
DTSTART:20260430T003000Z
DTEND:20260430T023000Z
TRANSP:TRANSPARENT
PRIORITY:0
SUMMARY:Burk-BB
LOCATION:North Elemiddle Gymnasium 
DESCRIPTION:Groups:\nYouth Sports\n\nSchools:\nClever Upper EleMiddle\n\nL
 ocation:\nNorth Elemiddle Gymnasium \n\n
URL;VALUE=URI:https://cleverbluejays.tandem.co/index.php?type=view&action=
 event&id=34469
CREATED:20260304T190946Z
LAST-MODIFIED:20260305T151109Z
UID:event_request-34469-cleverbluejays@intand.com
END:VEVENT
END:VCALENDAR
