BEGIN:VCALENDAR
VERSION:2.0
PRODID:-//Intand Corporation//Tandem//EN
METHOD:PUBLISH
BEGIN:VEVENT
DTSTAMP:20260422T230359Z
DTSTART:20260519T003000Z
DTEND:20260519T020000Z
TRANSP:TRANSPARENT
PRIORITY:0
SUMMARY:Verfurth-BB
LOCATION:JH Softball Field (South Field)
DESCRIPTION:Groups:\nYouth Sports\n\nSchools:\nClever Upper EleMiddle\n\nL
 ocation:\nJH Softball Field (South Field)\n\n
URL;VALUE=URI:https://cleverbluejays.tandem.co/index.php?type=view&action=
 event&id=34536
CREATED:20260304T191914Z
LAST-MODIFIED:20260305T152205Z
UID:event_request-34536-cleverbluejays@intand.com
END:VEVENT
END:VCALENDAR
