BEGIN:VCALENDAR
VERSION:2.0
PRODID:-//Intand Corporation//Tandem//EN
METHOD:PUBLISH
BEGIN:VEVENT
DTSTAMP:20260422T202006Z
DTSTART:20260402T003000Z
DTEND:20260402T020000Z
TRANSP:TRANSPARENT
PRIORITY:0
SUMMARY:Burk-Softball
LOCATION:JH Softball Field (South Field)
DESCRIPTION:Groups:\nYouth Sports\n\nSchools:\nClever Upper EleMiddle\n\nL
 ocation:\nJH Softball Field (South Field)\n\n
URL;VALUE=URI:https://cleverbluejays.tandem.co/index.php?type=view&action=
 event&id=34688
CREATED:20260304T192423Z
LAST-MODIFIED:20260305T150030Z
UID:event_request-34688-cleverbluejays@intand.com
END:VEVENT
END:VCALENDAR
