BEGIN:VCALENDAR
VERSION:2.0
PRODID:-//Intand Corporation//Tandem//EN
METHOD:PUBLISH
BEGIN:VEVENT
DTSTAMP:20260422T230359Z
DTSTART:20260524T230000Z
DTEND:20260525T003000Z
TRANSP:TRANSPARENT
PRIORITY:0
SUMMARY:Truman-Baseball
LOCATION:Junior High Baseball Field (North Field)
DESCRIPTION:Groups:\nYouth Sports\n\nSchools:\nClever Upper EleMiddle\n\nL
 ocation:\nJunior High Baseball Field (North Field)\n\n
URL;VALUE=URI:https://cleverbluejays.tandem.co/index.php?type=view&action=
 event&id=34919
CREATED:20260304T194704Z
LAST-MODIFIED:20260305T152709Z
UID:event_request-34919-cleverbluejays@intand.com
END:VEVENT
END:VCALENDAR
