BEGIN:VCALENDAR
VERSION:2.0
PRODID:-//Intand Corporation//Tandem//EN
METHOD:PUBLISH
BEGIN:VEVENT
DTSTAMP:20260422T230230Z
DTSTART:20260516T140000Z
DTEND:20260516T153000Z
TRANSP:TRANSPARENT
PRIORITY:0
SUMMARY:Martin-Basketball
LOCATION:North Elemiddle Gymnasium 
DESCRIPTION:Groups:\nYouth Sports\n\nSchools:\nClever Upper EleMiddle\n\nL
 ocation:\nNorth Elemiddle Gymnasium \n\n
URL;VALUE=URI:https://cleverbluejays.tandem.co/index.php?type=view&action=
 event&id=34951
CREATED:20260310T175705Z
LAST-MODIFIED:20260310T182309Z
UID:event_request-34951-cleverbluejays@intand.com
END:VEVENT
END:VCALENDAR
