BEGIN:VCALENDAR
VERSION:2.0
PRODID:-//Intand Corporation//Tandem//EN
METHOD:PUBLISH
BEGIN:VEVENT
DTSTAMP:20260422T224120Z
DTSTART:20260814T213000Z
DTEND:20260814T230000Z
TRANSP:TRANSPARENT
PRIORITY:0
SUMMARY:Marching Band Pool Party
LOCATION:The Rush - Republic Aquatic Park
DESCRIPTION:Groups:\nClever High Band\n\nSchools:\nClever High\n\nLocation
 :\nThe Rush - Republic Aquatic Park\n\n
URL;VALUE=URI:https://cleverbluejays.tandem.co/index.php?type=view&action=
 event&id=35061
CREATED:20260323T135813Z
LAST-MODIFIED:20260323T135813Z
UID:event-35061-cleverbluejays@intand.com
END:VEVENT
END:VCALENDAR
