BEGIN:VCALENDAR
VERSION:2.0
PRODID:-//Intand Corporation//Tandem//EN
METHOD:PUBLISH
BEGIN:VEVENT
DTSTAMP:20260422T230358Z
DTSTART:20260526T203000Z
DTEND:20260526T223000Z
TRANSP:TRANSPARENT
PRIORITY:0
SUMMARY:Youth VB Camp 
LOCATION:South Elemiddle Gymnasium
DESCRIPTION:Groups:\nYouth Sports\n\nSchools:\nClever Upper EleMiddle\n\nL
 ocation:\nSouth Elemiddle Gymnasium\n\n
URL;VALUE=URI:https://cleverbluejays.tandem.co/index.php?type=view&action=
 event&id=35163
CREATED:20260401T150228Z
LAST-MODIFIED:20260401T150228Z
UID:event-35163-cleverbluejays@intand.com
END:VEVENT
END:VCALENDAR
