BEGIN:VCALENDAR
VERSION:2.0
PRODID:-//Intand Corporation//Tandem//EN
METHOD:PUBLISH
BEGIN:VEVENT
DTSTAMP:20260422T230241Z
DTSTART:20261006T220000Z
DTEND:20261007T030000Z
TRANSP:TRANSPARENT
PRIORITY:0
SUMMARY:HS VB vs. Hollister (Pink Out Night)
LOCATION:High School Gymnasium
DESCRIPTION:Groups:\nClever High Volleyball JV\nClever High Volleyball Var
 sity\n\nSchools:\nClever High\n\nLocation:\nHigh School Gymnasium\n\n
URL;VALUE=URI:https://cleverbluejays.tandem.co/index.php?type=view&action=
 event&id=35244
CREATED:20260416T140537Z
LAST-MODIFIED:20260416T140537Z
UID:event-35244-cleverbluejays@intand.com
END:VEVENT
END:VCALENDAR
