BEGIN:VCALENDAR
VERSION:2.0
PRODID:-//Intand Corporation//Tandem//EN
METHOD:PUBLISH
BEGIN:VEVENT
DTSTAMP:20260422T225528Z
DTSTART:20270122T230000Z
DTEND:20270123T040000Z
TRANSP:TRANSPARENT
PRIORITY:0
SUMMARY:HSB Basketball @ Ava
LOCATION:AVA HIGH
DESCRIPTION:Groups:\nClever High Basketball Boys JV\nClever High Basketbal
 l Boys Varsity\nClever High Basketball Boys Freshmen\n\nSchools:\nAVA HIGH
 \nClever High\n\nLocation:\nAVA HIGH\n\n
URL;VALUE=URI:https://cleverbluejays.tandem.co/index.php?type=view&action=
 event&id=35262
CREATED:20260416T144556Z
LAST-MODIFIED:20260416T144556Z
UID:event-35262-cleverbluejays@intand.com
END:VEVENT
END:VCALENDAR
