BEGIN:VCALENDAR
VERSION:2.0
PRODID:-//Intand Corporation//Tandem//EN
METHOD:PUBLISH
BEGIN:VEVENT
DTSTAMP:20260422T225557Z
DTSTART:20260819T170000Z
DTEND:20260819T210000Z
TRANSP:TRANSPARENT
PRIORITY:0
SUMMARY:Guard Camp
LOCATION:Band Room / FEMA Shelter
DESCRIPTION:Summer rehearsal\n\n\nGroups:\nColor Guard\n\nSchools:\nClever
  High\n\nLocation:\nBand Room / FEMA Shelter\n\n
URL;VALUE=URI:https://cleverbluejays.tandem.co/index.php?type=view&action=
 event&id=35396
CREATED:20260422T171533Z
LAST-MODIFIED:20260422T184147Z
UID:event_request-35396-cleverbluejays@intand.com
END:VEVENT
END:VCALENDAR
